BEGIN:VCALENDAR
VERSION:2.0
PRODID:-//Squarespace Inc/Squarespace 6//v6//EN
BEGIN:VEVENT
UID:5cd24cd2104c7b2ef45916d4@squarespace.com
DTSTAMP:20191027T114941Z
DTSTART:20191107T210000Z
DTEND:20191110T060000Z
SUMMARY:'Yoga Philosophy and Theming' - 3 full days with Keenan Crisp
GEO:-27.483304;153.063896
LOCATION:Flex Hot Yoga\, 174 Bennetts Road\, Norman Park\, QLD\, 4170\, Aus
 tralia
END:VEVENT
END:VCALENDAR
