BEGIN:VCALENDAR
VERSION:2.0
PRODID:-//Squarespace Inc/Squarespace 6//v6//EN
BEGIN:VEVENT
UID:5e07adba8daefa6cb5ad2850@squarespace.com
DTSTAMP:20200218T064314Z
DTSTART:20201205T231500Z
DTEND:20201206T011500Z
SUMMARY:Yoga Nidra - a relaxing journey within
END:VEVENT
END:VCALENDAR
