BEGIN:VCALENDAR
VERSION:2.0
PRODID:-//Squarespace Inc/Squarespace 6//v6//EN
BEGIN:VEVENT
UID:5d1c1fb6d619670001ef33fe@squarespace.com
DTSTAMP:20191117T044202Z
DTSTART:20191130T231500Z
DTEND:20191201T011500Z
SUMMARY:Yoga Nidra - a relaxing journey within
END:VEVENT
END:VCALENDAR
