BEGIN:VCALENDAR
VERSION:2.0
PRODID:-//Squarespace Inc/Squarespace 6//v6//EN
BEGIN:VEVENT
UID:5db54f51c853f67fa1789983@squarespace.com
DTSTAMP:20200220T074912Z
DTSTART:20200507T210000Z
DTEND:20200510T060000Z
SUMMARY:Yoga for Mental Health - 3 full days with Keenan Crisp
GEO:-27.483304;153.063896
LOCATION:Flex Hot Yoga\, 174 Bennetts Road\, Norman Park\, QLD\, 4170\, Aus
 tralia
END:VEVENT
END:VCALENDAR
