BEGIN:VCALENDAR
VERSION:2.0
PRODID:-//Squarespace Inc/Squarespace 6//v6//EN
BEGIN:VEVENT
UID:5d1ac261a4ff3c00011ec9c4@squarespace.com
DTSTAMP:20200203T003001Z
DTSTART:20200206T210000Z
DTEND:20200209T060000Z
SUMMARY:Level 1 Yin Yoga Certification - 3 days immersion with Suzie Kellet
 t
GEO:-27.483304;153.063896
LOCATION:Flex Hot Yoga\, 174 Bennetts Road\, Norman Park\, QLD\, 4170\, Aus
 tralia
END:VEVENT
END:VCALENDAR
