BEGIN:VCALENDAR
VERSION:2.0
PRODID:-//Squarespace Inc/Squarespace 6//v6//EN
BEGIN:VEVENT
UID:5ce385c41619b700018d01c7@squarespace.com
DTSTAMP:20191209T035951Z
DTSTART:20190901T090000Z
DTEND:20191005T111500Z
SUMMARY:Spring Challenge: 40 Days to Personal Revolution
GEO:-27.483304;153.063896
LOCATION:Flex Hot Yoga\, 174 Bennetts Road\, Norman Park\, QLD\, 4170\, Aus
 tralia
END:VEVENT
END:VCALENDAR
