BEGIN:VCALENDAR
VERSION:2.0
PRODID:-//Squarespace Inc/Squarespace 6//v6//EN
BEGIN:VEVENT
UID:5c99f893ec212dd0c3c4bc0c@squarespace.com
DTSTAMP:20190326T104332Z
DTSTART:20190330T013000Z
DTEND:20190330T080000Z
SUMMARY:Soul Apprenticeship Brisbane
END:VEVENT
END:VCALENDAR
