BEGIN:VCALENDAR
VERSION:2.0
PRODID:-//Squarespace Inc/Squarespace 6//v6//EN
BEGIN:VEVENT
UID:5c99fee1e4966b46e75ac404@squarespace.com
DTSTAMP:20190822T062451Z
DTSTART:20190824T233000Z
DTEND:20190825T010000Z
SUMMARY:'Restorative Yin with Reiki and Crystals' with Christiana
GEO:-27.483304;153.063896
LOCATION:Flex Hot Yoga\, 174 Bennetts Road\, Norman Park\, QLD\, 4170\, Aus
 tralia
END:VEVENT
END:VCALENDAR
