BEGIN:VCALENDAR
VERSION:2.0
PRODID:-//Squarespace Inc/Squarespace 6//v6//EN
BEGIN:VEVENT
UID:5e07848762f19604da987272@squarespace.com
DTSTAMP:20200218T063608Z
DTSTART:20200704T233000Z
DTEND:20200705T010000Z
SUMMARY:'Restorative Yin with Reiki and Crystals' with Christiana
GEO:-27.483304;153.063896
LOCATION:Flex Hot Yoga\, 174 Bennetts Road\, Norman Park\, QLD\, 4170\, Aus
 tralia
END:VEVENT
END:VCALENDAR
