BEGIN:VCALENDAR
VERSION:2.0
PRODID:-//Squarespace Inc/Squarespace 6//v6//EN
BEGIN:VEVENT
UID:5d04514a498dca0001c387b7@squarespace.com
DTSTAMP:20190903T080853Z
DTSTART:20190919T210000Z
DTEND:20190922T060000Z
SUMMARY:'Advanced Pranayama and Kriya' - 3 full days with Michael 'Laxmi' K
 ubitzky
GEO:-27.483304;153.063896
LOCATION:Flex Hot Yoga\, 174 Bennetts Road\, Norman Park\, QLD\, 4170\, Aus
 tralia
END:VEVENT
END:VCALENDAR
