BEGIN:VCALENDAR
VERSION:2.0
PRODID:-//Squarespace Inc/Squarespace 6//v6//EN
BEGIN:VEVENT
UID:5d3817e1e6603300017032fc@squarespace.com
DTSTAMP:20190731T062957Z
DTSTART:20190816T093000Z
DTEND:20190816T110000Z
SUMMARY:Naam: Living Kirtan
END:VEVENT
END:VCALENDAR
