BEGIN:VCALENDAR
VERSION:2.0
PRODID:-//Squarespace Inc/Squarespace 6//v6//EN
BEGIN:VEVENT
UID:5ce38e4ec5dd480001491643@squarespace.com
DTSTAMP:20190801T114933Z
DTSTART:20190907T233000Z
DTEND:20190908T053000Z
SUMMARY:'Foundations of Yoga' with Yogi Cam
END:VEVENT
END:VCALENDAR
