BEGIN:VCALENDAR
VERSION:2.0
PRODID:-//Squarespace Inc/Squarespace 6//v6//EN
BEGIN:VEVENT
UID:5e2aaa5709f71f5734bc37ad@squarespace.com
DTSTAMP:20200212T014507Z
DTSTART:20220908T210000Z
DTEND:20220911T060000Z
SUMMARY:Level 2 Yin Yoga Certification - 3 days immersion with Suzie Kellet
 t
END:VEVENT
END:VCALENDAR
