BEGIN:VCALENDAR
VERSION:2.0
PRODID:-//Squarespace Inc/Squarespace 6//v6//EN
BEGIN:VEVENT
UID:5d2717fcfb5f5b0001032f0e@squarespace.com
DTSTAMP:20191015T053010Z
DTSTART:20210211T210000Z
DTEND:20210214T060000Z
SUMMARY:Transforming Belief Systems - 3 full days with Mantra Schultz
END:VEVENT
END:VCALENDAR
