BEGIN:VCALENDAR
VERSION:2.0
PRODID:-//Squarespace Inc/Squarespace 6//v6//EN
BEGIN:VEVENT
UID:5d3c2c996a69130001fcd2c4@squarespace.com
DTSTAMP:20191015T052057Z
DTSTART:20200910T210000Z
DTEND:20200913T060000Z
SUMMARY:Advanced Assisting - 3 full days with Mantra Schultz
END:VEVENT
END:VCALENDAR
