BEGIN:VCALENDAR
VERSION:2.0
PRODID:-//Squarespace Inc/Squarespace 6//v6//EN
BEGIN:VEVENT
UID:5d3c370d0fc6b8000138ec81@squarespace.com
DTSTAMP:20191015T052410Z
DTSTART:20201105T210000Z
DTEND:20201108T060000Z
SUMMARY:Advanced Asana: Peak Postures - 3 full days with Cameron Brown
END:VEVENT
END:VCALENDAR
